BEGIN:VCALENDAR
VERSION:2.0
PRODID:icalendar-ruby
CALSCALE:GREGORIAN
METHOD:PUBLISH
BEGIN:VEVENT
DTSTAMP:20260422T022531Z
UID:5-730559@forsythapostolic.tithelysetup5.com
DTSTART:20261004T150000Z
DTEND:20261004T160000Z
CLASS:PUBLIC
CREATED:20260421T195633
DESCRIPTION:Sunday Worship
LAST-MODIFIED:20260421T195633
LOCATION:
SUMMARY:Sunday Worship
URL;VALUE=URI:https://forsythapostolic.tithelysetup5.com/events/sunday-wors
 hip/2026-10-04
END:VEVENT
END:VCALENDAR
