BEGIN:VCALENDAR
VERSION:2.0
PRODID:icalendar-ruby
CALSCALE:GREGORIAN
METHOD:PUBLISH
BEGIN:VEVENT
DTSTAMP:20260421T194402Z
UID:5-729797@forsythapostolic.tithelysetup5.com
DTSTART:20260906T150000Z
DTEND:20260906T160000Z
CLASS:PUBLIC
CREATED:20260421T144112
DESCRIPTION:Sunday Worship
LAST-MODIFIED:20260421T144112
LOCATION:
SUMMARY:Sunday Worship
URL;VALUE=URI:https://forsythapostolic.tithelysetup5.com/events/sunday-wors
 hip/2026-09-06
END:VEVENT
END:VCALENDAR
