BEGIN:VCALENDAR
VERSION:2.0
PRODID:icalendar-ruby
CALSCALE:GREGORIAN
METHOD:PUBLISH
BEGIN:VEVENT
DTSTAMP:20260421T180836Z
UID:5-729417@forsythapostolic.tithelysetup5.com
DTSTART:20260830T150000Z
DTEND:20260830T160000Z
CLASS:PUBLIC
CREATED:20260421T120239
DESCRIPTION:Sunday Worship
LAST-MODIFIED:20260421T120239
LOCATION:
SUMMARY:Sunday Worship
URL;VALUE=URI:https://forsythapostolic.tithelysetup5.com/events/sunday-wors
 hip/2026-08-30
END:VEVENT
END:VCALENDAR
