BEGIN:VCALENDAR
VERSION:2.0
PRODID:icalendar-ruby
CALSCALE:GREGORIAN
METHOD:PUBLISH
BEGIN:VEVENT
DTSTAMP:20260421T122205Z
UID:5-728655@forsythapostolic.tithelysetup5.com
DTSTART:20260802T150000Z
DTEND:20260802T160000Z
CLASS:PUBLIC
CREATED:20260421T064926
DESCRIPTION:Sunday Worship
LAST-MODIFIED:20260421T064926
LOCATION:
SUMMARY:Sunday Worship
URL;VALUE=URI:https://forsythapostolic.tithelysetup5.com/events/sunday-wors
 hip/2026-08-02
END:VEVENT
END:VCALENDAR
