BEGIN:VCALENDAR
VERSION:2.0
PRODID:icalendar-ruby
CALSCALE:GREGORIAN
METHOD:PUBLISH
BEGIN:VEVENT
DTSTAMP:20260421T081639Z
UID:5-728273@forsythapostolic.tithelysetup5.com
DTSTART:20260712T150000Z
DTEND:20260712T160000Z
CLASS:PUBLIC
CREATED:20260420T194329
DESCRIPTION:Sunday Worship
LAST-MODIFIED:20260420T194329
LOCATION:
SUMMARY:Sunday Worship
URL;VALUE=URI:https://forsythapostolic.tithelysetup5.com/events/sunday-wors
 hip/2026-07-12
END:VEVENT
END:VCALENDAR
